BEGIN:VCALENDAR
PRODID:-//Amazone Events Calendar//iCal4j 1.0//EN
VERSION:2.0
CALSCALE:GREGORIAN
BEGIN:VEVENT
DTSTAMP:20260424T031826Z
DTSTART:20260521T080000
DTEND:20260521T200000
SUMMARY:AMATECHNICA
UID:76087952-0b55-41ee-bb32-e452a47bd699
LOCATION:Gaste
COUNTRY:Germany
END:VEVENT
END:VCALENDAR
